BEGIN:VCALENDAR
VERSION:2.0
PRODID:-//Zurich Wine Club - ECPv6.15.20//NONSGML v1.0//EN
CALSCALE:GREGORIAN
METHOD:PUBLISH
X-WR-CALNAME:Zurich Wine Club
X-ORIGINAL-URL:https://zurichwineclub.ch
X-WR-CALDESC:Events for Zurich Wine Club
REFRESH-INTERVAL;VALUE=DURATION:PT1H
X-Robots-Tag:noindex
X-PUBLISHED-TTL:PT1H
BEGIN:VTIMEZONE
TZID:Europe/Zurich
BEGIN:DAYLIGHT
TZOFFSETFROM:+0100
TZOFFSETTO:+0200
TZNAME:CEST
DTSTART:20230326T010000
END:DAYLIGHT
BEGIN:STANDARD
TZOFFSETFROM:+0200
TZOFFSETTO:+0100
TZNAME:CET
DTSTART:20231029T010000
END:STANDARD
BEGIN:DAYLIGHT
TZOFFSETFROM:+0100
TZOFFSETTO:+0200
TZNAME:CEST
DTSTART:20240331T010000
END:DAYLIGHT
BEGIN:STANDARD
TZOFFSETFROM:+0200
TZOFFSETTO:+0100
TZNAME:CET
DTSTART:20241027T010000
END:STANDARD
BEGIN:DAYLIGHT
TZOFFSETFROM:+0100
TZOFFSETTO:+0200
TZNAME:CEST
DTSTART:20250330T010000
END:DAYLIGHT
BEGIN:STANDARD
TZOFFSETFROM:+0200
TZOFFSETTO:+0100
TZNAME:CET
DTSTART:20251026T010000
END:STANDARD
END:VTIMEZONE
BEGIN:VEVENT
DTSTART;TZID=Europe/Zurich:20240621T180000
DTEND;TZID=Europe/Zurich:20240621T210000
DTSTAMP:20260424T152322
CREATED:20240526T164920Z
LAST-MODIFIED:20240621T053947Z
UID:10000047-1718992800-1719003600@zurichwineclub.ch
SUMMARY:Sparkling Friday!
DESCRIPTION:Perched atop the Signature Building\, overlooking Zurich HB\, our rooftop provides a stunning panoramic view of the city skyline\, creating the perfect ambiance for a magical sparkling soirée. \n\n\n\nIndulge in an unforgettable evening of exquisite sparkling wines\, from Champagne to Prosecco\, from Oltrepo Pavese to Garganega; delectable culinary delights\, and vibrant music in the heart of Zurich. \n\n\n\nJoin us for this exclusive gathering of wine lovers\, as we celebrate the finest sparkling wines meticulously selected by our esteemed wine partners. The wines are paired with tantalizing flying aperò bites. \n\n\n\nFlying aperò bites include: \n\n\n\n\nTuna Tartare Sicilian Style\n\n\n\nOctopus salad\n\n\n\nVitello Tonnato\n\n\n\nCrunchy basket with avocado cream and dried tomatoes\n\n\n\nHomemade focaccia with Parma DOP 18 Months and buffalo mozzarella campana\n\n\n\nHomemade focaccia with grilled vegetables\n\n\n\n\nAs the sun sets and bathes Zurich in its golden glow\, delight in the exquisite wines\, savor the gourmet appetizers\, and let the rhythmic beats of our DJ transport you to a realm of pure bliss. This promises to be an evening you won’t soon forget. \n\n\n\nThe event will take place in any weather condition.
URL:https://zurichwineclub.ch/event/sparkling-friday/
LOCATION:Zurich Wine Club Rooftop\, Bahnhofquai 11\, Zürich\, ZH\, 8001\, Switzerland
ATTACH;FMTTYPE=image/jpeg:https://zurichwineclub.ch/wp-content/uploads/2023/06/4-dsc02090.jpeg
END:VEVENT
END:VCALENDAR