BEGIN:VCALENDAR
VERSION:2.0
PRODID:-//Zurich Wine Club - ECPv6.15.20//NONSGML v1.0//EN
CALSCALE:GREGORIAN
METHOD:PUBLISH
X-WR-CALNAME:Zurich Wine Club
X-ORIGINAL-URL:https://zurichwineclub.ch
X-WR-CALDESC:Events for Zurich Wine Club
REFRESH-INTERVAL;VALUE=DURATION:PT1H
X-Robots-Tag:noindex
X-PUBLISHED-TTL:PT1H
BEGIN:VTIMEZONE
TZID:Europe/Zurich
BEGIN:DAYLIGHT
TZOFFSETFROM:+0100
TZOFFSETTO:+0200
TZNAME:CEST
DTSTART:20250330T010000
END:DAYLIGHT
BEGIN:STANDARD
TZOFFSETFROM:+0200
TZOFFSETTO:+0100
TZNAME:CET
DTSTART:20251026T010000
END:STANDARD
BEGIN:DAYLIGHT
TZOFFSETFROM:+0100
TZOFFSETTO:+0200
TZNAME:CEST
DTSTART:20260329T010000
END:DAYLIGHT
BEGIN:STANDARD
TZOFFSETFROM:+0200
TZOFFSETTO:+0100
TZNAME:CET
DTSTART:20261025T010000
END:STANDARD
BEGIN:DAYLIGHT
TZOFFSETFROM:+0100
TZOFFSETTO:+0200
TZNAME:CEST
DTSTART:20270328T010000
END:DAYLIGHT
BEGIN:STANDARD
TZOFFSETFROM:+0200
TZOFFSETTO:+0100
TZNAME:CET
DTSTART:20271031T010000
END:STANDARD
END:VTIMEZONE
BEGIN:VEVENT
DTSTART;TZID=Europe/Zurich:20260424T183000
DTEND;TZID=Europe/Zurich:20260424T213000
DTSTAMP:20260424T134332
CREATED:20260330T153546Z
LAST-MODIFIED:20260421T082609Z
UID:10000111-1777055400-1777066200@zurichwineclub.ch
SUMMARY:Aperitivo Experience – Ribera del Duero Edition 🇪🇸🍷
DESCRIPTION:This April\, we’re bringing Spain to Zurich — together with D.O. Ribera del Duero. \n\n\n\nA curated evening to discover one of Spain’s most iconic wine regions through 11 wines\, guided by Ribera del Duero Wine Educator Natascha Brand. \n\n\n\nAnd because no Spanish experience is complete without food and fiesta… \n\n\n\nThink:Croquetas\, tortilla de patatas\, pan con tomate\, jamón & embutidos\, pimientos del Padrón and secreto ibérico \n\n\n\nThis is not just a tasting.It’s a full-on Spanish aperitivo moment. \n\n\n\n\n\n\n\nThe flow of the evening \n\n\n\nIf the weather allows ☀️ we kick things off with a welcome drink on the rooftop. \n\n\n\n18:30 – 19:00: Welcome drink (rooftop\, weather permitting) \n\n\n\n19:00 – 20:30: Masterclass & tasting (11 wines) with Natascha Brand \n\n\n\n20:30 – 21:30: Spanish aperitivo\, music & social vibes \n\n\n\n\n\n\n\nA night to learn something new\, drink very well\, and meet people who are into the same things as you. \n\n\n\nIn collaboration with D.O. Ribera del Duero\, this is a rare opportunity to access a privileged selection of wines from the region — all in one evening\, in Zurich. \n\n\n\nAnd if you’ve been to our Aperitivo Experiences before\, you already know — tickets don’t stay available for long.
URL:https://zurichwineclub.ch/event/aperitivo-experience-ribera-del-duero-edition-%f0%9f%87%aa%f0%9f%87%b8%f0%9f%8d%b7/
LOCATION:Signature\, Bahnhofquai 11\, Zürich\, ZH\, 8001\, Switzerland
ATTACH;FMTTYPE=image/jpeg:https://zurichwineclub.ch/wp-content/uploads/2026/03/ribera.jpg
END:VEVENT
END:VCALENDAR