BEGIN:VCALENDAR
VERSION:2.0
PRODID:-//Zurich Wine Club - ECPv6.15.20//NONSGML v1.0//EN
CALSCALE:GREGORIAN
METHOD:PUBLISH
X-WR-CALNAME:Zurich Wine Club
X-ORIGINAL-URL:https://zurichwineclub.ch
X-WR-CALDESC:Events for Zurich Wine Club
REFRESH-INTERVAL;VALUE=DURATION:PT1H
X-Robots-Tag:noindex
X-PUBLISHED-TTL:PT1H
BEGIN:VTIMEZONE
TZID:Europe/Zurich
BEGIN:DAYLIGHT
TZOFFSETFROM:+0100
TZOFFSETTO:+0200
TZNAME:CEST
DTSTART:20250330T010000
END:DAYLIGHT
BEGIN:STANDARD
TZOFFSETFROM:+0200
TZOFFSETTO:+0100
TZNAME:CET
DTSTART:20251026T010000
END:STANDARD
BEGIN:DAYLIGHT
TZOFFSETFROM:+0100
TZOFFSETTO:+0200
TZNAME:CEST
DTSTART:20260329T010000
END:DAYLIGHT
BEGIN:STANDARD
TZOFFSETFROM:+0200
TZOFFSETTO:+0100
TZNAME:CET
DTSTART:20261025T010000
END:STANDARD
BEGIN:DAYLIGHT
TZOFFSETFROM:+0100
TZOFFSETTO:+0200
TZNAME:CEST
DTSTART:20270328T010000
END:DAYLIGHT
BEGIN:STANDARD
TZOFFSETFROM:+0200
TZOFFSETTO:+0100
TZNAME:CET
DTSTART:20271031T010000
END:STANDARD
END:VTIMEZONE
BEGIN:VEVENT
DTSTART;TZID=Europe/Zurich:20260214T183000
DTEND;TZID=Europe/Zurich:20260214T220000
DTSTAMP:20260425T170057
CREATED:20260122T141206Z
LAST-MODIFIED:20260210T150918Z
UID:10000106-1771093800-1771106400@zurichwineclub.ch
SUMMARY:Wine & Dine – Valentine’s Day Edition
DESCRIPTION:This Valentine’s Day\, we invite you to a curated Wine & Dine experience designed for couples\, friends\, and solo wine lovers who believe that great wine is always better when shared. \n\n\n\nGuided by a Zurich Wine Club sommelier\, the evening unfolds as a refined journey of wine and food\, where each pairing is introduced with care and enjoyed in a relaxed\, social atmosphere. \n\n\n\nHosted inside the epicurea Kitchen\, this experience goes beyond a classic restaurant dinner. Being welcomed into the kitchen creates a more intimate and immersive setting — closer to the chefs\, the wines\, and the people you share the table with. \n\n\n\nYour night begins with a welcome glass of champagne\, followed by a 5-course seasonal menu paired with 5 carefully selected wines\, designed to enhance every dish from first bite to final sip. \n\n\n\n✨ Choose your table experience:\n\n\n\n💑 Private Table: For couples or friends looking for an intimate Valentine’s celebration. \n\n\n\n🍷 Social Table (Shared Group Table): A long table for wine lovers who enjoy discovering flavors — and connections — together. Yes\, you can come solo. This option is designed for it. \n\n\n\nMenu: \n\n\n\n–  A Sparkling Beginning–  Swiss Wagyu Tartare\, kissed by Parmigiano Reggiano & Black Truffle–  Lobster Ravioli in a Rosé Champagne Embrace–  Black Angus Filet\, Port Wine Whisper\, Creamy celery root purée & Vegetable–  Selection of Fine Cheeses–  Pistachio Bavarian Cream with a Raspberry Heart\, White Chocolate Veil \n\n\n\nSet in the warm and refined atmosphere of epicurea Kitchen\, this is not just dinner\, but a shared experience to remember. \n\n\n\n✨ Limited seats – an intimate evening by design🥂 Champagne welcome drink included🍷 5 courses · 5 wine pairings · Water and Coffee❤️ Perfect for couples\, friends\, and solo wine lovers
URL:https://zurichwineclub.ch/event/romantic-wine-dine-valentines-day-edition/
LOCATION:epicurea kitchen\, Bannhaldenstrasse 3\, Bülach\, 8180\, Switzerland
ATTACH;FMTTYPE=image/webp:https://zurichwineclub.ch/wp-content/uploads/2026/01/Wine-and-Dine-800x534.jpg.webp
END:VEVENT
BEGIN:VEVENT
DTSTART;TZID=Europe/Zurich:20260219T180000
DTEND;TZID=Europe/Zurich:20260219T203000
DTSTAMP:20260425T170057
CREATED:20260204T095312Z
LAST-MODIFIED:20260204T095317Z
UID:10000107-1771524000-1771533000@zurichwineclub.ch
SUMMARY:WINE & ART - CHRONICLES OF COLORS AND FLAVORS
DESCRIPTION:This February\, we’re mixing art\, wine\, and people the way we love it most. \n\n\n\nOur Wine & Art series is back at Gallery Asheé with Chronicles of Colors\, a lively and colorful exhibition by an international collective of artists. A perfect setting to wander\, talk\, ask questions\, and connect with a glass in hand. \n\n\n\nThroughout the evening\, you’ll taste a curated selection of wines from The Wine Broker. Expressive winter wines\, meant to be discovered slowly\, discussed openly\, and enjoyed together. \n\n\n\nThis experience is guided\, but never stiff: \n\n\n\n\nOur sommelier will lead the tasting in an easy\, interactive way\, sharing insights\, inviting questions\, and sparking conversation.\n\n\n\nArtists from the exhibition will guide us through the artworks\, opening the door to stories\, perspectives\, and dialogue around the pieces.\n\n\n\n\nBetween sips and artworks\, the magic happens: conversations flow\, connections are made\, and strangers often leave as friends.✨ Limited spots to keep the vibe intimate and social.🍷 Come with friends — or come solo and meet new ones.
URL:https://zurichwineclub.ch/event/wine-art-chronicles-of-colors-and-flavors/
LOCATION:Regus Zurich West\, Badenerstrasse 549\, Zürich West\, 8048\, Switzerland
ATTACH;FMTTYPE=image/png:https://zurichwineclub.ch/wp-content/uploads/2026/02/Screenshot-2026-02-04-alle-10.52.36.png
END:VEVENT
BEGIN:VEVENT
DTSTART;TZID=Europe/Zurich:20260227T183000
DTEND;TZID=Europe/Zurich:20260227T213000
DTSTAMP:20260425T170057
CREATED:20260210T150230Z
LAST-MODIFIED:20260227T150758Z
UID:10000108-1772217000-1772227800@zurichwineclub.ch
SUMMARY:Aperitivo Experience: Marche Wines\, Food & Good Vibes
DESCRIPTION:We are excited to invite you to another edition of our iconic Aperitivo Experience\, where great wine\, generous Italian food and a vibrant social atmosphere come together in one unforgettable night. \n\n\n\nOn Friday\, February 27\, we turn the spotlight to Marche\, one of Italy’s most authentic and exciting wine regions. For this special edition\, we welcome Tenuta Santi Giacomo e Filippo\, with Marianna Bruscoli\, the producer herself traveling especially to Zurich to present her wines and share the story behind the estate and its territory to us. \n\n\n\n✨ Special Sunset AdditionIf the weather allows (and this week it looks promising ☀️)\, guests are welcome to arrive from 18:00 to enjoy the welcome drink on the rooftop before the official start of the event. A glass in hand\, golden hour over Zurich — a beautiful way to begin the evening. \n\n\n\nThe evening begins with a guided wine masterclass & tasting\, offering a relaxed yet insightful introduction to the wines of Marche\, perfect for curious wine lovers and enthusiasts alike. \n\n\n\nAfter the masterclass\, we move into full aperitivo mode. A rich Italian aperitivo will be prepared by a chef from the Marche region\, using traditional recipes and regional products\, while wines continue to flow\, music sets the mood and the evening becomes fully social. \n\n\n\n🕰 Program\n\n\n\n18:00 – Rooftop welcome drink (optional)18:30 – Welcome18:45 – 20:00 – Masterclass & Wine Tasting20:00 – 21:30 – Aperò Riche\, Wines & Music \n\n\n\n\n\n\n\n🎟 What’s included\n\n\n\n✔ Guided masterclass with the winemaker✔ Tasting of the winery’s wines✔ Aperò Riche prepared by a Marche chef with regional products✔ Wines throughout the evening✔ Music & great vibes \n\n\n\nSpaces are limited and our Aperitivo Experiences tend to sell out quickly.  \n\n\n\nCome for the wine\, stay for the aperitivo\, leave with new connections 🍷✨
URL:https://zurichwineclub.ch/event/aperitivo-experience-marche-wines-food-good-vibes/
LOCATION:Signature\, Bahnhofquai 11\, Zürich\, ZH\, 8001\, Switzerland
ATTACH;FMTTYPE=image/jpeg:https://zurichwineclub.ch/wp-content/uploads/2026/02/WhatsApp-Image-2026-02-10-at-09.30.59.jpeg
END:VEVENT
BEGIN:VEVENT
DTSTART;TZID=Europe/Zurich:20260311T183000
DTEND;TZID=Europe/Zurich:20260311T230000
DTSTAMP:20260425T170057
CREATED:20260216T151957Z
LAST-MODIFIED:20260310T092358Z
UID:10000109-1773253800-1773270000@zurichwineclub.ch
SUMMARY:Portuguese Wine & Dine - Douro on the Table
DESCRIPTION:What if one evening in Zurich felt like a trip to the Douro Valley? \n\n\n\nOn March 11\, we invite you to a very special Wine & Dine experience at the Portuguese restaurant D’Ouro Tapas\, where tradition meets soul\, and every glass tells a family story. \n\n\n\nThis is not just a pairing dinner. It’s a night hosted by the producer herself.  \n\n\n\nWe are honored to welcome Maria Vieira de Sousa\, from the renowned Vieira de Sousa winery in the Douro Valley. She will personally guide us through her wines\, sharing heritage\, craftsmanship\, and the passion behind every bottle. \n\n\n\n\n\n\n\n🍷 The Menu & Pairings\n\n\n\nAperitifGreen pea frittersVieira de Sousa Weiss Reserva 2024 \n\n\n\nFirst CourseConfit bacalhau ¦ Chickpeas ¦ Fennel ¦ ChouriçoVegetarian alternative: Grünes Gemüsetartar ¦ KräutersalatVieira de Sousa Reserva Rot 2022 \n\n\n\nMain CourseBeef ribs ¦ Corn ¦ Cabbage ¦ CarrotsVegetarian alternative: Gebackenes Ofengemüse ¦ ReisVieira de Sousa Grande Reserva Rot 2018 \n\n\n\nDessertBlueberry Tartlet ¦ Pastel de Nata GlaceVintage Port 2016 \n\n\n\nFinaleCheese VariationColheita Port Rot 2010 & Very Old White Port \n\n\n\n\n\n\n\nWhy you’ll love this night\n\n\n\n ✨ Meet the producer face-to-face✨ Discover Portuguese wines beyond the classics✨ A curated multi-course menu designed to elevate each wine✨ A warm\, social night with fellow wine lovers✨ Limited seats – intimate\, elegant\, unforgettable \n\n\n\nAt Zurich Wine Club\, we don’t just drink wine.We learn it\, taste it\, and experience it together. \n\n\n\nSeats are very limited.
URL:https://zurichwineclub.ch/event/portuguese-wine-dine-douro-on-the-table/
LOCATION:D’OURO Tapas & Petiscos\, Hardpl. 9\, Zürich\, 8004\, Switzerland
ATTACH;FMTTYPE=image/jpeg:https://zurichwineclub.ch/wp-content/uploads/2026/02/Vieira-de-Sousa-1.jpg
END:VEVENT
BEGIN:VEVENT
DTSTART;TZID=Europe/Zurich:20260313T183000
DTEND;TZID=Europe/Zurich:20260313T213000
DTSTAMP:20260425T170057
CREATED:20260301T125240Z
LAST-MODIFIED:20260313T095350Z
UID:10000110-1773426600-1773437400@zurichwineclub.ch
SUMMARY:Aperitivo Experience - Portuguese Wines\, Bites & Social Vibes
DESCRIPTION:On March 13\, we bring the Douro to Zurich — our signature way.That means: first we uncork knowledge\, then we let the evening flow. \n\n\n\nWe’re thrilled to welcome Maria Vieira de Sousa from Vieira de Sousa Winery for a guided masterclass — followed by Portuguese-inspired bites and the kind of social atmosphere that makes you forget the time. \n\n\n\n✨ Special Sunset AdditionIf the weather allows (and this week it looks promising ☀️)\, guests are welcome to arrive from 18:00 to enjoy the welcome drink on the rooftop before the official start of the event. A glass in hand\, golden hour over Zurich — a beautiful way to begin the evening. \n\n\n\n\n\n\n\n🍷 The Wines\n\n\n\nWhitesAlice Vieira de Sousa Weiss 2024Vieira de Sousa Reserva Weiss 2024 \n\n\n\nRedsAlice Vieira de Sousa Reserva Rot 2022Vieira de Sousa Reserva Rot 2022Vieira de Sousa Grand Reserva 2018 \n\n\n\nPorts (yes\, we go there)Vieira de Sousa Vintage Port 2016Vieira de Sousa Colheita Port 2010Vieira de Sousa Very Old White Port \n\n\n\nFrom fresh and elegant to deep and powerful — finishing with Ports that tell decades of story. \n\n\n\n\n\n\n\nWhat’s the plan?\n\n\n\n🕕 18:00 – Rooftop welcome drink (optional) \n\n\n\n🕕 18:30 – Guided MasterclassAn interactive tasting led by the producer herself.Stories from the Douro. Insights into terroir. Space for your questions. \n\n\n\n🍴 Afterwards – Portuguese Aperitivo & Social TalkInspired bites. Wines flowing. Conversations growing.Stay\, mingle\, compare favorites\, meet fellow wine lovers. \n\n\n\nIt’s educational.It’s delicious.It’s social. \n\n\n\nThis is the Aperitivo Experience — Portugal Edition.Limited seats.Because the best conversations happen in intimate rooms. 🍷✨
URL:https://zurichwineclub.ch/event/aperitivo-experience-portuguese-wines-bites-social-vibes/
LOCATION:Signature\, Bahnhofquai 11\, Zürich\, ZH\, 8001\, Switzerland
ATTACH;FMTTYPE=image/jpeg:https://zurichwineclub.ch/wp-content/uploads/2026/03/Vieira-de-Sousa-1.jpg
END:VEVENT
BEGIN:VEVENT
DTSTART;TZID=Europe/Zurich:20260424T183000
DTEND;TZID=Europe/Zurich:20260424T213000
DTSTAMP:20260425T170057
CREATED:20260330T153546Z
LAST-MODIFIED:20260421T082609Z
UID:10000111-1777055400-1777066200@zurichwineclub.ch
SUMMARY:Aperitivo Experience – Ribera del Duero Edition 🇪🇸🍷
DESCRIPTION:This April\, we’re bringing Spain to Zurich — together with D.O. Ribera del Duero. \n\n\n\nA curated evening to discover one of Spain’s most iconic wine regions through 11 wines\, guided by Ribera del Duero Wine Educator Natascha Brand. \n\n\n\nAnd because no Spanish experience is complete without food and fiesta… \n\n\n\nThink:Croquetas\, tortilla de patatas\, pan con tomate\, jamón & embutidos\, pimientos del Padrón and secreto ibérico \n\n\n\nThis is not just a tasting.It’s a full-on Spanish aperitivo moment. \n\n\n\n\n\n\n\nThe flow of the evening \n\n\n\nIf the weather allows ☀️ we kick things off with a welcome drink on the rooftop. \n\n\n\n18:30 – 19:00: Welcome drink (rooftop\, weather permitting) \n\n\n\n19:00 – 20:30: Masterclass & tasting (11 wines) with Natascha Brand \n\n\n\n20:30 – 21:30: Spanish aperitivo\, music & social vibes \n\n\n\n\n\n\n\nA night to learn something new\, drink very well\, and meet people who are into the same things as you. \n\n\n\nIn collaboration with D.O. Ribera del Duero\, this is a rare opportunity to access a privileged selection of wines from the region — all in one evening\, in Zurich. \n\n\n\nAnd if you’ve been to our Aperitivo Experiences before\, you already know — tickets don’t stay available for long.
URL:https://zurichwineclub.ch/event/aperitivo-experience-ribera-del-duero-edition-%f0%9f%87%aa%f0%9f%87%b8%f0%9f%8d%b7/
LOCATION:Signature\, Bahnhofquai 11\, Zürich\, ZH\, 8001\, Switzerland
ATTACH;FMTTYPE=image/jpeg:https://zurichwineclub.ch/wp-content/uploads/2026/03/ribera.jpg
END:VEVENT
BEGIN:VEVENT
DTSTART;TZID=Europe/Zurich:20260507T180000
DTEND;TZID=Europe/Zurich:20260507T210000
DTSTAMP:20260425T170057
CREATED:20260422T135641Z
LAST-MODIFIED:20260422T140112Z
UID:10000114-1778176800-1778187600@zurichwineclub.ch
SUMMARY:Sip Happens @ Bridge – Spring Wines Edition
DESCRIPTION:We’re launching something new… and you’ll want to be there 👀 \n\n\n\nSip Happens @ Bridge is our new monthly wine night — kicking off at the new bar inside Bridge\, a super cool spot with amazing vibes and a wine selection we’re currently obsessed with. \n\n\n\nAnd yes… a cozy outdoor setup for the sunny days ahead ☀️ \n\n\n\nWhether you come solo or with friends\, this is your space to meet other wine lovers\, connect\, and just have a really good time.  \n\n\n\n\n\n\n\n🍷 What’s the plan?\n\n\n\n18:00 – 19:30 | Wine Tasting (included in your ticket)A guided tasting of 8 spring wines\, led by wine experts and sommeliers.Fresh\, vibrant wines that are just perfect for the season — and you’ll learn why. \n\n\n\nFrom 19:30 | Social DrinksOnce you’ve discovered your favorites… it’s time to enjoy them. We stay for more wine in a relaxed\, social atmosphere — music on\, glasses up. Go back to the wines you loved or explore something new\, with 15% off bottles exclusively for our guests 🍷 \n\n\n\n🍽️ Hungry?\n\n\n\nThat’s the beauty of Bridge — plenty of food options to explore. And our sommeliers will happily recommend the perfect dish to pair with your wine. \n\n\n\n\n\n\n\nAn after-work plan that has it all: wine\, people\, music and that easy spring feeling.  \n\n\n\nAnd the best part? This is just the beginning. Every month\, a new theme to discover.  \n\n\n\nLet’s make some nice sips happen🍷
URL:https://zurichwineclub.ch/event/sip-happens-bridge-spring-wines-edition/
LOCATION:Bridge\, Eisgasse 20\, Europaallee 22\, Zürich\, ZH\, 8004\, Switzerland
ATTACH;FMTTYPE=image/jpeg:https://zurichwineclub.ch/wp-content/uploads/2026/04/bridge_0650.jpg
END:VEVENT
BEGIN:VEVENT
DTSTART;TZID=Europe/Zurich:20260620T180000
DTEND;TZID=Europe/Zurich:20260620T210000
DTSTAMP:20260425T170057
CREATED:20260420T154157Z
LAST-MODIFIED:20260420T154227Z
UID:10000112-1781978400-1781989200@zurichwineclub.ch
SUMMARY:Zurich Wine Festival - Summer Edition
DESCRIPTION:Zurich Wine Festival goes summer on the rooftop! \n\n\n\nFor the very first time\, we’re bringing the spirit of the festival to an exclusive one-day Summer Edition — Set on our signature rooftop\, where wine\, food\, music sunset\, and good energy meet. \n\n\n\n🍷 What’s waiting for you – Tasting of 30+ wines from selected producers– Free-flow discovery across styles and regions– A refined standing apero with fine bites & live cooking – DJ setting the vibe from sunset into the evening– That golden-hour rooftop view we all love \n\n\n\nBut this is more than just a summer event. This is your first taste of what’s coming in October at our Festival. \n\n\n\nDuring the evening\, we’ll be unveiling new details of the upcoming Zurich Wine Festival — surrounded by our community\, partners\, and key voices from the wine scene. \n\n\n\nA moment where wine lovers\, industry insiders\, and curious minds all come together… naturally\, over a glass. \n\n\n\n✨ Why you don’t want to miss thisBecause it’s not just another tasting.It’s that kind of evening — where everything flows: the wine\, the conversations\, the energy.And where you just know… you had to be there. \n\n\n\nSpots are limited (and you already know what happens with rooftop events 😉)
URL:https://zurichwineclub.ch/event/zurich-wine-festival-summer-edition/
LOCATION:Aperitivo Rooftop @ Signature\, Bahnhofquai 11\, Zürich\, 8001\, Switzerland
ATTACH;FMTTYPE=image/jpeg:https://zurichwineclub.ch/wp-content/uploads/2026/04/summer-wine.jpg
END:VEVENT
BEGIN:VEVENT
DTSTART;TZID=Europe/Zurich:20260704T180000
DTEND;TZID=Europe/Zurich:20260704T210000
DTSTAMP:20260425T170057
CREATED:20260420T155352Z
LAST-MODIFIED:20260420T155425Z
UID:10000113-1783188000-1783198800@zurichwineclub.ch
SUMMARY:Champagne Day Rooftop Edition
DESCRIPTION:One of our most anticipated and celebrated events of the year returns — bringing together the world of Champagne in one unforgettable evening. \n\n\n\nFrom Grandes Maisons to small vignerons\, this is your chance to explore the diversity\, elegance\, and character of Champagne… all in one place. \n\n\n\nBecause Champagne is not just a drink. It’s a mood. \n\n\n\nAnd as the sun begins to set over the city… you’ll understand exactly what we mean. \n\n\n\n🥂 What’s waiting for you – Tasting of 20+ Champagnes from selected producers– Discover both iconic houses and hidden gems– Meet the people behind the cuvées– Free-flow tasting across styles and expressions– A luxurious standing apero with fine bites & live cooking – DJ setting the tone from sunset into the evening– That golden-hour atmosphere that makes everything feel just right \n\n\n\nThis isn’t your typical tasting. It’s a celebration — of bubbles\, of good energy\, of that feeling Champagne does better than anything else. \n\n\n\n✨ Why you don’t want to miss it Because events like this don’t come often.Because Champagne somehow makes everything better.And because if you know… you know. \n\n\n\nSpots are limited — and this one always fills up.
URL:https://zurichwineclub.ch/event/champagne-day-rooftop-edition/
LOCATION:Aperitivo Rooftop @ Signature\, Bahnhofquai 11\, Zürich\, 8001\, Switzerland
ATTACH;FMTTYPE=image/jpeg:https://zurichwineclub.ch/wp-content/uploads/2026/04/champagne-day.jpg
END:VEVENT
END:VCALENDAR