BEGIN:VCALENDAR
VERSION:2.0
PRODID:-//Zurich Wine Club - ECPv6.15.20//NONSGML v1.0//EN
CALSCALE:GREGORIAN
METHOD:PUBLISH
X-WR-CALNAME:Zurich Wine Club
X-ORIGINAL-URL:https://zurichwineclub.ch
X-WR-CALDESC:Events for Zurich Wine Club
REFRESH-INTERVAL;VALUE=DURATION:PT1H
X-Robots-Tag:noindex
X-PUBLISHED-TTL:PT1H
BEGIN:VTIMEZONE
TZID:Europe/Zurich
BEGIN:DAYLIGHT
TZOFFSETFROM:+0100
TZOFFSETTO:+0200
TZNAME:CEST
DTSTART:20220327T010000
END:DAYLIGHT
BEGIN:STANDARD
TZOFFSETFROM:+0200
TZOFFSETTO:+0100
TZNAME:CET
DTSTART:20221030T010000
END:STANDARD
BEGIN:DAYLIGHT
TZOFFSETFROM:+0100
TZOFFSETTO:+0200
TZNAME:CEST
DTSTART:20230326T010000
END:DAYLIGHT
BEGIN:STANDARD
TZOFFSETFROM:+0200
TZOFFSETTO:+0100
TZNAME:CET
DTSTART:20231029T010000
END:STANDARD
BEGIN:DAYLIGHT
TZOFFSETFROM:+0100
TZOFFSETTO:+0200
TZNAME:CEST
DTSTART:20240331T010000
END:DAYLIGHT
BEGIN:STANDARD
TZOFFSETFROM:+0200
TZOFFSETTO:+0100
TZNAME:CET
DTSTART:20241027T010000
END:STANDARD
END:VTIMEZONE
BEGIN:VEVENT
DTSTART;TZID=Europe/Zurich:20230409T130000
DTEND;TZID=Europe/Zurich:20230409T170000
DTSTAMP:20260425T060756
CREATED:20230326T155615Z
LAST-MODIFIED:20230408T083051Z
UID:10000016-1681045200-1681059600@zurichwineclub.ch
SUMMARY:EASTER LUNCH AND WINE TASTING
DESCRIPTION:Join us for a homely Easter lunch experience filled with delicious food and exquisite wine. This event will take place in a cozy and welcoming setting\, perfect for celebrating the joys of the season with fellow wine lovers. \n\n\n\n\nEaster-inspired menu:\n\n\n\nAperitif\n\n\n\nSeasonal salad\n\n\n\nRoast young goat meat with rosemary potatoes and vegetables\n\n\n\nEaster sweet treat\n\n\n\n\nAs you indulge in the culinary delights\, our wine expert will take you on a journey through the world of wine\, sharing insights into the different grapes\, regions\, and production methods that make each bottle unique. \n\n\n\nNormal price: CHF100Grand Cru price: CHF85All-inclusive: 4-course menu\, wine pairing\, water\, and coffeeAddress: ZWC Rooftop – Dietikon (Details after sign-up) \n\n\n\nWe have limited places available.  \n\n\n\nGrand Cru members benefit from exclusive discounts. Become a member here: https://zurichwineclub.ch/membership/ \n\n\n\nJoin us for an Easter lunch like no other\, filled with delicious food\, exceptional wines\, and wonderful company.  \n\n\n\nWe look forward to sharing this special occasion with you.
URL:https://zurichwineclub.ch/event/easter-lunch-and-wine-tasting/
CATEGORIES:Event
ATTACH;FMTTYPE=image/jpeg:https://zurichwineclub.ch/wp-content/uploads/2023/03/WhatsApp-Image-2023-03-26-at-17.44.20.jpeg
END:VEVENT
BEGIN:VEVENT
DTSTART;TZID=Europe/Zurich:20230325T190000
DTEND;TZID=Europe/Zurich:20230325T220000
DTSTAMP:20260425T060756
CREATED:20230303T130933Z
LAST-MODIFIED:20230321T103537Z
UID:10000015-1679770800-1679781600@zurichwineclub.ch
SUMMARY:DINNER WITH THE WINEMAKER
DESCRIPTION:This is a 5-course dinner paired with a selection of 6 Tuscan wines by Gabriele Mazzeschi. Gabriele represents the next generation of Tuscan winemakers and we will have the pleasure of dining with him and learning about his winemaking philosophy while tasting his exquisite wines. \n\n\n\nTime: 19:00 – 22:00Address: ZWC Rooftop Dietikon (Details after sign-up)
URL:https://zurichwineclub.ch/event/dinner-with-the-winemaker/
ATTACH;FMTTYPE=image/jpeg:https://zurichwineclub.ch/wp-content/uploads/2023/03/WhatsApp-Image-2023-03-03-at-13.43.52.jpeg
END:VEVENT
BEGIN:VEVENT
DTSTART;TZID=Europe/Zurich:20230324T183000
DTEND;TZID=Europe/Zurich:20230324T203000
DTSTAMP:20260425T060756
CREATED:20230303T130419Z
LAST-MODIFIED:20230313T152256Z
UID:10000014-1679682600-1679689800@zurichwineclub.ch
SUMMARY:MEET THE WINEMAKER - TUSCAN TASTING
DESCRIPTION:Meet Gabriele Mazzeschi\, a passionate Tuscan winemaker. Gabriel will guide us through his selection of 6 delicious wines: \n\n\n\n-Bianco Toscano. A blend of Trebbiano and Malvasia-Anfora Vermentino. Fermented in Terracotta tanks -Rosé. 100% Sangiovese grape-Anfora Canaiolo. Fermented in Terracotta tanks -Super Tuscan. A blend of Sangiovese and Cabernet Sauvignon-Syrah. In honor of Gabriele’s Grandfather  \n\n\n\nSavor the unique flavors of each wine as you learn about Tuscany’s unique terroir and winemaking traditions with the new generation of winemakers. \n\n\n\nTime: 18:30 – 20:30Address: Adagio Hotel\, Stampfenbachstrasse 60\, 8006 Zürich \n\n\n\nNETWORKING DINNER \n\n\n\nYou’re welcome to join us for dinner. We’ll book a table for those who wish to stay after the masterclass. The hotel’s chef will cook a special dish for us: \n\n\n\nCrespelle alla Fiorentina / CHF 25.- per Person \n\n\n\nAre you in? Drop us a message to info@zurichwineclub.ch
URL:https://zurichwineclub.ch/event/meet-the-winemaker-tuscan-tasting/
ATTACH;FMTTYPE=image/jpeg:https://zurichwineclub.ch/wp-content/uploads/2023/03/WhatsApp-Image-2023-03-03-at-13.52.23.jpeg
END:VEVENT
BEGIN:VEVENT
DTSTART;TZID=Europe/Zurich:20230318T183000
DTEND;TZID=Europe/Zurich:20230318T213000
DTSTAMP:20260425T060756
CREATED:20230303T124427Z
LAST-MODIFIED:20230303T125024Z
UID:10000011-1679164200-1679175000@zurichwineclub.ch
SUMMARY:TAPAS & WINE - RIOJA EXPERIENCE
DESCRIPTION:Experience the flavors of Spain with a Rioja wine tasting paired with tapas. Enjoy a unique selection of Rioja wines\, from light and fruity whites to robust\, full-bodied reds. Wines will be paired with delicious tapas\, from classic patatas bravas to regional specialties. \n\n\n\nA Rioja wine expert will guide us through this interactive experience. Savor the unique flavors of each wine and tapa as you learn about Rioja’s unique terroir and winemaking traditions. \n\n\n\nTime: 18:30 – 21:30Address: ZWC Rooftop Dietikon (Details after sign-up)Normal price: CHF70Grand Cru price: CHF60
URL:https://zurichwineclub.ch/event/tapas-wine-rioja-experience/
CATEGORIES:Event
ATTACH;FMTTYPE=image/jpeg:https://zurichwineclub.ch/wp-content/uploads/2023/03/WhatsApp-Image-2023-03-03-at-13.38.04.jpeg
END:VEVENT
BEGIN:VEVENT
DTSTART;TZID=Europe/Zurich:20230317T183000
DTEND;TZID=Europe/Zurich:20230317T203000
DTSTAMP:20260425T060756
CREATED:20230303T125839Z
LAST-MODIFIED:20230313T152134Z
UID:10000013-1679077800-1679085000@zurichwineclub.ch
SUMMARY:FRANCIACORTA MASTERCLASS AND TASTING
DESCRIPTION:Learn everything you have ever wanted to know about Italy’s star sparkling wine while tasting a variety of styles including Franciacorta Brut\, Franciacorta Satèn\, and special Franciacorta Vintages.  \n\n\n\nFranciacorta is Italy’s leading traditional method of sparkling wine\, and in its home country\, it is highly prized. But just 15% of production is exported\, so outside Italy\, it isn’t well known. It’s a great opportunity to experience the best of Franciacorta! \n\n\n\nOur sommelier will guide you through this interactive experience. You’ll learn about the winemaking process\, the grapes\, the terroir and more.  \n\n\n\nTime: 18:30 – 20:30Address: Adagio Hotel\, Stampfenbachstrasse 60\, 8006 ZürichNormal price: CHF60Grand Cru price: CHF50 \n\n\n\nNETWORKING DINNERYou’re welcome to join us for dinner. We’ll book a table for those who wish to stay after the masterclass. The hotel’s chef will cook a special dish for us: \n\n\n\nRisotto alla Milanese (with veal bites and marrow) / CHF 25.- per Person \n\n\n\nAre you in? Drop us a message to info@zurichwineclub.ch
URL:https://zurichwineclub.ch/event/franciacorta-masterclass-and-tasting/
CATEGORIES:Event
ATTACH;FMTTYPE=image/jpeg:https://zurichwineclub.ch/wp-content/uploads/2023/03/WhatsApp-Image-2023-03-03-at-13.34.25.jpeg
END:VEVENT
BEGIN:VEVENT
DTSTART;TZID=Europe/Zurich:20230218T190000
DTEND;TZID=Europe/Zurich:20230218T230000
DTSTAMP:20260425T060756
CREATED:20230108T191653Z
LAST-MODIFIED:20230215T204517Z
UID:10000010-1676746800-1676761200@zurichwineclub.ch
SUMMARY:SAT 18/02 TUSCAN DINNER AND WINE TASTING
DESCRIPTION:Delight your senses with the flavors of Tuscany. This is a 5-course dinner paired with a selection of 5 Tuscan wines curated by our sommeliers. \n\n\n\nWe are going to Tuscany to personally select the ingredients and wines for this very special banquet. We will also come packed with stories to tell and tips to share. \n\n\n\nTuscany is one of the most famous and prolific wine regions in the world. Taste and learn about the most emblematic Tuscan wines guided by our wine experts. \n\n\n\nMENU: \n\n\n\n\nAperitivo Fiorentino\n\n\n\nAmuse bouche from the kitchen\n\n\n\nTrio di crostini (paté\, mushroom\, tomato)\n\n\n\nWild pork pappardelle ragù\n\n\n\nFiorentina Steak\n\n\n\nCastagnaccio (typical Marroni cake) with homemade fior di latte gelato\n\n\n\n\nGet ready to enjoy an exceptional sensory experience and an unforgettable evening in our cozy and welcoming place. \n\n\n\nTime: 19:00 \n\n\n\nAddress: Dietikon (Details after sign up)
URL:https://zurichwineclub.ch/event/sat-18-02-tuscan-dinner-and-wine-tasting/
CATEGORIES:Event
ATTACH;FMTTYPE=image/jpeg:https://zurichwineclub.ch/wp-content/uploads/2023/01/Tuscan-dinner-1.jpg
END:VEVENT
BEGIN:VEVENT
DTSTART;TZID=Europe/Zurich:20230217T183000
DTEND;TZID=Europe/Zurich:20230217T203000
DTSTAMP:20260425T060756
CREATED:20230108T191153Z
LAST-MODIFIED:20230213T091626Z
UID:10000009-1676658600-1676665800@zurichwineclub.ch
SUMMARY:FRI 17/02 TUSCAN WINE TASTING
DESCRIPTION:Tuscany is one of the most famous and prolific wine regions in the world. Taste and learn about the most emblematic Tuscan wines guided by our wine experts. \n\n\n\nWe’ll uncork Brunello\, Chianti\, Super Tuscans and some new discoveries. \n\n\n\nWe are going to Tuscany to personally select the wines for this special tasting. We will come packed with exciting wine stories to tell and tips to share. \n\n\n\nTime: 18:30 \n\n\n\nAddress: Adagio Hotel\, Stampfenbachstrasse 60\, 8006 Zürich
URL:https://zurichwineclub.ch/event/fri-17-02-tuscan-wine-tasting/
CATEGORIES:Event
ATTACH;FMTTYPE=image/jpeg:https://zurichwineclub.ch/wp-content/uploads/2023/01/Tuscan-wine-1.jpg
END:VEVENT
BEGIN:VEVENT
DTSTART;TZID=Europe/Zurich:20230204T140000
DTEND;TZID=Europe/Zurich:20230204T180000
DTSTAMP:20260425T060756
CREATED:20230108T184623Z
LAST-MODIFIED:20230202T100437Z
UID:10000006-1675519200-1675533600@zurichwineclub.ch
SUMMARY:SAT 04/02 INTRODUCTION TO WINE MASTERCLASS
DESCRIPTION:This is not another old-fashioned course. Get ready to learn by tasting and having fun! \n\n\n\nGain an in-depth understanding of all aspects of wine. During this workshop you will learn about the world’s most famous wine regions\, the main types of grapes and their characteristics\, winemaking processes and factors affecting wine quality. In a very practical way\, you will learn how to properly taste all types of wines and describe their appearance\, aroma\, flavor and taste using the WSET® system. \n\n\n\nDuring this 4-hour workshop\, you will taste 8 different types of wines that will allow you to uncork your wine knowledge in a practical and easy way. \n\n\n\nTime: 14:00 \n\n\n\nAddress: Förrlibuckstrasse 10\, 8005 Zurich
URL:https://zurichwineclub.ch/event/sat-04-02-introduction-to-wine-masterclass/
CATEGORIES:Event
ATTACH;FMTTYPE=image/jpeg:https://zurichwineclub.ch/wp-content/uploads/2023/01/Introduction-to-wine-masterclass-1.jpg
END:VEVENT
END:VCALENDAR