BEGIN:VCALENDAR
VERSION:2.0
PRODID:-//Zurich Wine Club - ECPv6.15.20//NONSGML v1.0//EN
CALSCALE:GREGORIAN
METHOD:PUBLISH
X-WR-CALNAME:Zurich Wine Club
X-ORIGINAL-URL:https://zurichwineclub.ch
X-WR-CALDESC:Events for Zurich Wine Club
REFRESH-INTERVAL;VALUE=DURATION:PT1H
X-Robots-Tag:noindex
X-PUBLISHED-TTL:PT1H
BEGIN:VTIMEZONE
TZID:Europe/Zurich
BEGIN:DAYLIGHT
TZOFFSETFROM:+0100
TZOFFSETTO:+0200
TZNAME:CEST
DTSTART:20230326T010000
END:DAYLIGHT
BEGIN:STANDARD
TZOFFSETFROM:+0200
TZOFFSETTO:+0100
TZNAME:CET
DTSTART:20231029T010000
END:STANDARD
BEGIN:DAYLIGHT
TZOFFSETFROM:+0100
TZOFFSETTO:+0200
TZNAME:CEST
DTSTART:20240331T010000
END:DAYLIGHT
BEGIN:STANDARD
TZOFFSETFROM:+0200
TZOFFSETTO:+0100
TZNAME:CET
DTSTART:20241027T010000
END:STANDARD
BEGIN:DAYLIGHT
TZOFFSETFROM:+0100
TZOFFSETTO:+0200
TZNAME:CEST
DTSTART:20250330T010000
END:DAYLIGHT
BEGIN:STANDARD
TZOFFSETFROM:+0200
TZOFFSETTO:+0100
TZNAME:CET
DTSTART:20251026T010000
END:STANDARD
END:VTIMEZONE
BEGIN:VEVENT
DTSTART;TZID=Europe/Zurich:20240701T170000
DTEND;TZID=Europe/Zurich:20240927T210000
DTSTAMP:20260424T152317
CREATED:20240731T081350Z
LAST-MODIFIED:20240731T081455Z
UID:10000053-1719853200-1727470800@zurichwineclub.ch
SUMMARY:Aperitivo - Every Thursday & Friday!
DESCRIPTION:Rooftop Wine Bar \n\n\n\nNestled on the rooftop terrace of a historic building\, just opposite Zurich HB\, Aperitivo Zurich is your ultimate summer pop-up destination. \n\n\n\nAperitivo Zurich allows us to offer an unparalleled wine experience at our pop-up location\, showcasing exclusive selections that are carefully curated by wine experts. \n\n\n\nMore info at: https://aperitivo.zurichwine.club
URL:https://zurichwineclub.ch/event/aperitivo-every-thursday-friday/
LOCATION:Signature\, Bahnhofquai 11\, Zürich\, ZH\, 8001\, Switzerland
ATTACH;FMTTYPE=image/jpeg:https://zurichwineclub.ch/wp-content/uploads/2024/07/cover-terrazza.jpg
END:VEVENT
BEGIN:VEVENT
DTSTART;TZID=Europe/Zurich:20240706T170000
DTEND;TZID=Europe/Zurich:20240706T220000
DTSTAMP:20260424T152317
CREATED:20240613T091159Z
LAST-MODIFIED:20240704T080214Z
UID:10000050-1720285200-1720303200@zurichwineclub.ch
SUMMARY:Aperitivo Rooftop Wine Bar - Opening
DESCRIPTION:Join us for the grand opening of the Aperitivo Wine Bar Terrace! Celebrate the start of summer with an evening filled with live DJs\, a spectacular selection of wines\, and some delightful surprises.  \n\n\n\nEnjoy the beautiful rooftop views\, soak in the vibrant atmosphere\, and indulge in our curated wine offerings. \n\n\n\nWhat’s included in the ticket: \n\n\n\n\n🎵 Live DJs to set the perfect mood\n\n\n\n⚽ Footbal game Switzerland vs England\n\n\n\n🎁 Surprises throughout the evening\n\n\n\n🌅 Stunning views from our rooftop terrace (only in case of good weather)\n\n\n\n🍽️ A true Italian apero buffet\n\n\n\n🥂 A welcome drink included\n\n\n\n\nBook Your Lounge: Reserve your spot in advance to ensure you don’t miss out on this special evening. Email us at aperitivo@zurichwineclub.ch to book your lounge. \n\n\n\nDue to the unstable weather conditions\, we might move the event to our Secret Bar located on the first floor of the building.
URL:https://zurichwineclub.ch/event/aperitivo-rooftop-wine-bar-opening/
LOCATION:Zurich Wine Club Rooftop\, Bahnhofquai 11\, Zürich\, ZH\, 8001\, Switzerland
ATTACH;FMTTYPE=image/png:https://zurichwineclub.ch/wp-content/uploads/2024/06/opening-2.png
END:VEVENT
BEGIN:VEVENT
DTSTART;TZID=Europe/Zurich:20240720T180000
DTEND;TZID=Europe/Zurich:20240720T210000
DTSTAMP:20260424T152317
CREATED:20240526T171027Z
LAST-MODIFIED:20240719T145849Z
UID:10000048-1721498400-1721509200@zurichwineclub.ch
SUMMARY:Champagne Day 2024
DESCRIPTION:Come and try more than 35 champagnes atop of the Signature Building\, overlooking Zurich HB. Our rooftop provides a stunning panoramic view of the city skyline\, creating the perfect ambiance for a magical bubbly soirée. \n\n\n\nGet ready for an unforgettable evening of exquisite champagne\, delectable culinary delights\, and vibrant music in the heart of Zurich! \n\n\n\nJoin us for the Zurich Wine Club Champagne Day\, our exclusive yearly celebration where champagne lovers unite to enjoy the finest selections handpicked by our esteemed wine partners. Each champagne is beautifully accompanied by oysters and tantalizing aperò bites\, designed to elevate your tasting experience. \n\n\n\nChampagnes presented by:– Lanson– Baur au Lac Vins– The Wine Broker– WeinHaus– Gaston & Suzette– 5 Hats \n\n\n\nAperò bites includes:– Oyster– Tuna tartare– Vitello tonnato– Avocado Crunchy Basket– Mini focaccie– Parmigiano Risotto with crunchy bacon \n\n\n\nAs the sun sets and Zurich is bathed in a golden glow\, immerse yourself in the luxurious bubbles\, savor gourmet appetizers\, and let our DJ’s rhythmic beats whisk you away to a realm of pure bliss. This promises to be an extraordinary night you won’t want to miss!
URL:https://zurichwineclub.ch/event/champagne-day-2024/
LOCATION:Zurich Wine Club Rooftop\, Bahnhofquai 11\, Zürich\, ZH\, 8001\, Switzerland
ATTACH;FMTTYPE=image/avif:https://zurichwineclub.ch/wp-content/uploads/2024/05/galateo-dello-champagne-temperatura-di-servizio-638x425-1.avif
END:VEVENT
END:VCALENDAR